BEGIN:VCALENDAR
VERSION:2.0
PRODID:-//Cyber Blue - ECPv6.8.3//NONSGML v1.0//EN
CALSCALE:GREGORIAN
METHOD:PUBLISH
X-WR-CALNAME:Cyber Blue
X-ORIGINAL-URL:https://cyberblue234.com
X-WR-CALDESC:Events for Cyber Blue
REFRESH-INTERVAL;VALUE=DURATION:PT1H
X-Robots-Tag:noindex
X-PUBLISHED-TTL:PT1H
BEGIN:VTIMEZONE
TZID:America/New_York
BEGIN:DAYLIGHT
TZOFFSETFROM:-0500
TZOFFSETTO:-0400
TZNAME:EDT
DTSTART:20190310T070000
END:DAYLIGHT
BEGIN:STANDARD
TZOFFSETFROM:-0400
TZOFFSETTO:-0500
TZNAME:EST
DTSTART:20191103T060000
END:STANDARD
END:VTIMEZONE
BEGIN:VEVENT
DTSTART;TZID=America/New_York:20190221T180000
DTEND;TZID=America/New_York:20190221T193000
DTSTAMP:20260423T064644
CREATED:20190212T044206Z
LAST-MODIFIED:20190212T000104Z
UID:549-1550772000-1550777400@cyberblue234.com
SUMMARY:Engineering for Scouts
DESCRIPTION:Content is protected.
URL:https://cyberblue234.com/event/engineering-for-scouts/
LOCATION:Perry Meridian High School\, 401 W Meridian School Road\, Indianapolis\, IN\, 46217\, United States
END:VEVENT
BEGIN:VEVENT
DTSTART;TZID=America/New_York:20190219T000000
DTEND;TZID=America/New_York:20190219T235900
DTSTAMP:20260423T064644
CREATED:20190212T043239Z
LAST-MODIFIED:20190212T000026Z
UID:540-1550534400-1550620740@cyberblue234.com
SUMMARY:End of Build Season
DESCRIPTION:No more modifications allowed to our robot.  Robot must be in a sealed bag by 11:59 pm.
URL:https://cyberblue234.com/event/end-of-build-season/
LOCATION:Perry Meridian High School\, 401 W Meridian School Road\, Indianapolis\, IN\, 46217\, United States
END:VEVENT
END:VCALENDAR